{
 "documentInfo": {
  "Category": "",
  "Keywords": "",
  "Version": "3.3.0",
  "Comments": "",
  "AntialiasingMode": "Fast",
  "Title": "Map",
  "Author": "",
  "TextAntialiasingMode": "Force",
  "Subject": ""
 },
 "maxImageWidth": 4096,
 "wmtsScaleFactor": 0.00091863333333344881,
 "maxRecordCount": 2000,
 "tileInfo": {
  "lods": [
   {
    "level": 0,
    "scale": 60000,
    "resolution": 52.083333333333329
   },
   {
    "level": 1,
    "scale": 40000,
    "resolution": 34.722222222222221
   },
   {
    "level": 2,
    "scale": 20000,
    "resolution": 17.361111111111111
   },
   {
    "level": 3,
    "scale": 12000,
    "resolution": 10.416666666666666
   },
   {
    "level": 4,
    "scale": 6000,
    "resolution": 5.208333333333333
   },
   {
    "level": 5,
    "scale": 3000,
    "resolution": 2.6041666666666665
   },
   {
    "level": 6,
    "scale": 1500,
    "resolution": 1.3020833333333333
   },
   {
    "level": 7,
    "scale": 750,
    "resolution": 0.65104166666666663
   },
   {
    "level": 8,
    "scale": 400,
    "resolution": 0.34722222222222221
   }
  ],
  "origin": {
   "x": -119756300,
   "y": 145170100
  },
  "format": "JPEG",
  "compressionQuality": 80,
  "rows": 256,
  "dpi": 96,
  "spatialReference": {
   "falseM": -100000,
   "xyTolerance": 0.0032808333333333331,
   "mUnits": 10000,
   "zUnits": 10000,
   "latestWkid": 2234,
   "zTolerance": 0.001,
   "wkid": 102656,
   "xyUnits": 3048.00609601219276,
   "mTolerance": 0.001,
   "falseX": -119756300,
   "falseY": -96342500,
   "falseZ": -100000
  },
  "cols": 256
 },
 "description": "",
 "datesInUnknownTimezone": false,
 "supportsQueryDomains": true,
 "units": "esriFeet",
 "maxSelectionCount": 2000,
 "supportedImageFormatTypes": "PNG32,PNG24,PNG,JPG,DIB,TIFF,EMF,PS,PDF,GIF,SVG,SVGZ,BMP",
 "supportsClipping": true,
 "exportTilesAllowed": false,
 "maxImageHeight": 4096,
 "tables": [],
 "hasVersionedData": false,
 "supportsDatumTransformation": true,
 "cimVersion": "3.7.0",
 "supportsQueryDataElements": true,
 "layers": [
  {
   "subLayerIds": null,
   "maxScale": 0,
   "name": "Orthophoto_April2025",
   "defaultVisibility": true,
   "id": 1,
   "minScale": 0,
   "supportsDynamicLegends": true,
   "type": "Raster Layer",
   "parentLayerId": -1
  }
 ],
 "mapName": "OrthoPhoto_April2025",
 "minScale": 60000,
 "archivingInfo": {
  "supportsHistoricMoment": false
 },
 "spatialReference": {
  "falseM": -100000,
  "xyTolerance": 0.0032808333333333331,
  "mUnits": 10000,
  "zUnits": 10000,
  "latestWkid": 2234,
  "zTolerance": 0.001,
  "wkid": 102656,
  "xyUnits": 3048.00609601219276,
  "mTolerance": 0.001,
  "falseX": -119756300,
  "falseY": -96342500,
  "falseZ": -100000
 },
 "tileImageInfo": {
  "bandCount": 1,
  "lercError": 0,
  "format": "JPEG",
  "compressionQuality": 80
 },
 "fullExtent": {
  "ymin": 821303.97698370577,
  "xmin": 1001616.0088710713,
  "ymax": 860903.96114368993,
  "xmax": 1035935.9731782356,
  "spatialReference": {
   "falseM": -100000,
   "xyTolerance": 0.0032808333333333331,
   "mUnits": 10000,
   "zUnits": 10000,
   "latestWkid": 2234,
   "zTolerance": 0.001,
   "wkid": 102656,
   "xyUnits": 3048.00609601219276,
   "mTolerance": 0.001,
   "falseX": -119756300,
   "falseY": -96342500,
   "falseZ": -100000
  }
 },
 "supportedExtensions": "",
 "serviceItemId": "b581892a43e9455eaceb6950826422f2",
 "capabilities": "Map",
 "supportsDynamicLayers": true,
 "maxScale": 400,
 "singleFusedMapCache": true,
 "currentVersion": 12.1,
 "storageInfo": {
  "storageFormat": "esriMapCacheStorageModeCompactV2",
  "packetSize": 128
 },
 "hasBranchVersionedData": false,
 "mapUnits": {
  "uwkid": 9003
 },
 "referenceScale": 0,
 "supportsSpatialFilter": true,
 "maxLOD": 8,
 "minLOD": 0,
 "supportedQueryFormats": "JSON, geoJSON, PBF",
 "initialExtent": {
  "ymin": 820858.89778508036,
  "xmin": 988579.5141174579,
  "ymax": 861218.27278508036,
  "xmax": 1050595.1391174579,
  "spatialReference": {
   "falseM": -100000,
   "xyTolerance": 0.0032808333333333331,
   "mUnits": 10000,
   "zUnits": 10000,
   "latestWkid": 2234,
   "zTolerance": 0.001,
   "wkid": 102656,
   "xyUnits": 3048.00609601219276,
   "mTolerance": 0.001,
   "falseX": -119756300,
   "falseY": -96342500,
   "falseZ": -100000
  }
 },
 "serviceDescription": "",
 "copyrightText": "",
 "supportsTimeRelation": true
}
